Package: quantsmooth Version: 1.66.0 Command: /home/biocbuild/bbs-3.17-bioc/R/bin/R CMD build --keep-empty-dirs --no-resave-data quantsmooth StartedAt: 2023-10-15 18:04:42 -0400 (Sun, 15 Oct 2023) EndedAt: 2023-10-15 18:04:55 -0400 (Sun, 15 Oct 2023) EllapsedTime: 12.9 seconds RetCode: 0 Status: OK PackageFile: quantsmooth_1.66.0.tar.gz PackageFileSize: 230.4 KiB