Package: quantsmooth Version: 1.66.0 Command: /Library/Frameworks/R.framework/Resources/bin/R CMD build --keep-empty-dirs --no-resave-data quantsmooth StartedAt: 2023-10-15 20:29:23 -0400 (Sun, 15 Oct 2023) EndedAt: 2023-10-15 20:29:56 -0400 (Sun, 15 Oct 2023) EllapsedTime: 33.4 seconds RetCode: 0 Status: OK PackageFile: quantsmooth_1.66.0.tar.gz PackageFileSize: 338.3 KiB