Package: quantsmooth Version: 1.66.0 Command: rm -rf quantsmooth.buildbin-libdir && mkdir quantsmooth.buildbin-libdir && /Users/biocbuild/BBS/utils/build-universal.sh quantsmooth_1.66.0.tar.gz /Library/Frameworks/R.framework/Resources/bin/R quantsmooth.buildbin-libdir StartedAt: 2023-10-16 09:59:09 -0400 (Mon, 16 Oct 2023) EndedAt: 2023-10-16 09:59:37 -0400 (Mon, 16 Oct 2023) EllapsedTime: 27.5 seconds RetCode: 0 Status: OK PackageFile: quantsmooth_1.66.0.tgz PackageFileSize: 418.5 KiB