Package: quantro Version: 1.34.0 Command: /Library/Frameworks/R.framework/Resources/bin/R CMD check --install=check:quantro.install-out.txt --library=/Library/Frameworks/R.framework/Resources/library --no-vignettes --timings quantro_1.34.0.tar.gz StartedAt: 2023-10-16 05:42:14 -0400 (Mon, 16 Oct 2023) EndedAt: 2023-10-16 05:54:56 -0400 (Mon, 16 Oct 2023) EllapsedTime: 762.3 seconds RetCode: 0 Status: OK CheckDir: quantro.Rcheck Warnings: 0