Package: quantro Version: 1.34.0 Command: /Library/Frameworks/R.framework/Resources/bin/R CMD build --keep-empty-dirs --no-resave-data quantro StartedAt: 2023-10-15 20:29:22 -0400 (Sun, 15 Oct 2023) EndedAt: 2023-10-15 20:32:55 -0400 (Sun, 15 Oct 2023) EllapsedTime: 213.4 seconds RetCode: 0 Status: OK PackageFile: quantro_1.34.0.tar.gz PackageFileSize: 2.755 MiB