Package: qsvaR Version: 1.4.0 Command: F:\biocbuild\bbs-3.17-bioc\R\bin\R.exe CMD INSTALL qsvaR StartedAt: 2023-10-15 16:42:25 -0400 (Sun, 15 Oct 2023) EndedAt: 2023-10-15 16:43:00 -0400 (Sun, 15 Oct 2023) EllapsedTime: 35.5 seconds RetCode: 0 Status: OK