Package: qsvaR Version: 1.4.0 Command: F:\biocbuild\bbs-3.17-bioc\R\bin\R.exe CMD check --no-multiarch --install=check:qsvaR.install-out.txt --library=F:\biocbuild\bbs-3.17-bioc\R\library --no-vignettes --timings qsvaR_1.4.0.tar.gz StartedAt: 2023-10-16 05:37:00 -0400 (Mon, 16 Oct 2023) EndedAt: 2023-10-16 05:40:42 -0400 (Mon, 16 Oct 2023) EllapsedTime: 222.3 seconds RetCode: 0 Status: OK CheckDir: qsvaR.Rcheck Warnings: 0