Package: qsvaR Version: 1.4.0 Command: rm -rf qsvaR.buildbin-libdir && mkdir qsvaR.buildbin-libdir && F:\biocbuild\bbs-3.17-bioc\R\bin\R.exe CMD INSTALL --build --library=qsvaR.buildbin-libdir qsvaR_1.4.0.tar.gz StartedAt: 2023-10-16 09:19:07 -0400 (Mon, 16 Oct 2023) EndedAt: 2023-10-16 09:19:42 -0400 (Mon, 16 Oct 2023) EllapsedTime: 34.9 seconds RetCode: 0 Status: OK PackageFile: qsvaR_1.4.0.zip PackageFileSize: 3.479 MiB