Package: qsvaR Version: 1.4.0 Command: /home/biocbuild/bbs-3.17-bioc/R/bin/R CMD check --install=check:qsvaR.install-out.txt --library=/home/biocbuild/bbs-3.17-bioc/R/site-library --timings qsvaR_1.4.0.tar.gz StartedAt: 2023-10-16 00:09:40 -0400 (Mon, 16 Oct 2023) EndedAt: 2023-10-16 00:24:39 -0400 (Mon, 16 Oct 2023) EllapsedTime: 898.9 seconds RetCode: 0 Status: OK CheckDir: qsvaR.Rcheck Warnings: 0