Package: qsvaR Version: 1.4.0 Command: /home/biocbuild/bbs-3.17-bioc/R/bin/R CMD build --keep-empty-dirs --no-resave-data qsvaR StartedAt: 2023-10-15 18:04:25 -0400 (Sun, 15 Oct 2023) EndedAt: 2023-10-15 18:15:35 -0400 (Sun, 15 Oct 2023) EllapsedTime: 669.8 seconds RetCode: 0 Status: OK PackageFile: qsvaR_1.4.0.tar.gz PackageFileSize: 3.43 MiB