Package: qsmooth Version: 1.16.0 Command: /home/biocbuild/bbs-3.17-bioc/R/bin/R CMD build --keep-empty-dirs --no-resave-data qsmooth StartedAt: 2023-10-15 18:04:15 -0400 (Sun, 15 Oct 2023) EndedAt: 2023-10-15 18:05:15 -0400 (Sun, 15 Oct 2023) EllapsedTime: 59.8 seconds RetCode: 0 Status: OK PackageFile: qsmooth_1.16.0.tar.gz PackageFileSize: 1.229 MiB