Package: qsmooth Version: 1.16.0 Command: rm -rf qsmooth.buildbin-libdir && mkdir qsmooth.buildbin-libdir && /Users/biocbuild/BBS/utils/build-universal.sh qsmooth_1.16.0.tar.gz /Library/Frameworks/R.framework/Resources/bin/R qsmooth.buildbin-libdir StartedAt: 2023-10-16 09:58:54 -0400 (Mon, 16 Oct 2023) EndedAt: 2023-10-16 10:00:47 -0400 (Mon, 16 Oct 2023) EllapsedTime: 112.4 seconds RetCode: 0 Status: OK PackageFile: qsmooth_1.16.0.tgz PackageFileSize: 1.439 MiB