Package: qsea Version: 1.26.0 Command: /home/biocbuild/bbs-3.17-bioc/R/bin/R CMD INSTALL qsea StartedAt: 2023-10-15 15:21:58 -0400 (Sun, 15 Oct 2023) EndedAt: 2023-10-15 15:22:28 -0400 (Sun, 15 Oct 2023) EllapsedTime: 30.4 seconds RetCode: 0 Status: OK