Package: qpgraph Version: 2.34.2 Command: chmod a+r qpgraph -R && F:\biocbuild\bbs-3.17-bioc\R\bin\R.exe CMD build --keep-empty-dirs --no-resave-data qpgraph StartedAt: 2023-10-15 21:32:57 -0400 (Sun, 15 Oct 2023) EndedAt: 2023-10-15 21:35:04 -0400 (Sun, 15 Oct 2023) EllapsedTime: 126.7 seconds RetCode: 0 Status: OK PackageFile: qpgraph_2.34.2.tar.gz PackageFileSize: 2.703 MiB