Package: qpgraph Version: 2.34.2 Command: rm -rf qpgraph.buildbin-libdir && mkdir qpgraph.buildbin-libdir && F:\biocbuild\bbs-3.17-bioc\R\bin\R.exe CMD INSTALL --build --library=qpgraph.buildbin-libdir qpgraph_2.34.2.tar.gz StartedAt: 2023-10-16 09:18:58 -0400 (Mon, 16 Oct 2023) EndedAt: 2023-10-16 09:20:13 -0400 (Mon, 16 Oct 2023) EllapsedTime: 74.9 seconds RetCode: 0 Status: OK PackageFile: qpgraph_2.34.2.zip PackageFileSize: 4.117 MiB