Package: qpgraph Version: 2.34.2 Command: /home/biocbuild/bbs-3.17-bioc/R/bin/R CMD INSTALL qpgraph StartedAt: 2023-10-15 15:22:19 -0400 (Sun, 15 Oct 2023) EndedAt: 2023-10-15 15:23:13 -0400 (Sun, 15 Oct 2023) EllapsedTime: 54.6 seconds RetCode: 0 Status: OK