Package: qpcrNorm Version: 1.58.0 Command: rm -rf qpcrNorm.buildbin-libdir && mkdir qpcrNorm.buildbin-libdir && F:\biocbuild\bbs-3.17-bioc\R\bin\R.exe CMD INSTALL --build --library=qpcrNorm.buildbin-libdir qpcrNorm_1.58.0.tar.gz StartedAt: 2023-10-16 09:18:56 -0400 (Mon, 16 Oct 2023) EndedAt: 2023-10-16 09:19:04 -0400 (Mon, 16 Oct 2023) EllapsedTime: 8.2 seconds RetCode: 0 Status: OK PackageFile: qpcrNorm_1.58.0.zip PackageFileSize: 530 KiB