Package: qpcrNorm Version: 1.58.0 Command: /home/biocbuild/bbs-3.17-bioc/R/bin/R CMD build --keep-empty-dirs --no-resave-data qpcrNorm StartedAt: 2023-10-15 18:03:55 -0400 (Sun, 15 Oct 2023) EndedAt: 2023-10-15 18:04:03 -0400 (Sun, 15 Oct 2023) EllapsedTime: 8.3 seconds RetCode: 0 Status: OK PackageFile: qpcrNorm_1.58.0.tar.gz PackageFileSize: 476.6 KiB