Package: qmtools Version: 1.4.0 Command: chmod a+r qmtools -R && F:\biocbuild\bbs-3.17-bioc\R\bin\R.exe CMD build --keep-empty-dirs --no-resave-data qmtools StartedAt: 2023-10-15 21:32:39 -0400 (Sun, 15 Oct 2023) EndedAt: 2023-10-15 21:33:51 -0400 (Sun, 15 Oct 2023) EllapsedTime: 72.0 seconds RetCode: 0 Status: OK PackageFile: qmtools_1.4.0.tar.gz PackageFileSize: 714.6 KiB