Package: qmtools Version: 1.4.0 Command: /Library/Frameworks/R.framework/Resources/bin/R CMD build --keep-empty-dirs --no-resave-data qmtools StartedAt: 2023-10-15 20:27:46 -0400 (Sun, 15 Oct 2023) EndedAt: 2023-10-15 20:29:26 -0400 (Sun, 15 Oct 2023) EllapsedTime: 99.7 seconds RetCode: 0 Status: OK PackageFile: qmtools_1.4.0.tar.gz PackageFileSize: 1.336 MiB