git_url: https://git.bioconductor.org/packages/qmtools git_branch: RELEASE_3_17 git_last_commit: 7fcb8b0 git_last_commit_date: 2023-04-25 11:37:21 -0400 (Tue, 25 Apr 2023) Package: qmtools Version: 1.4.0 Maintainer: Jaehyun Joo MaintainerEmail: jaehyunjoo at outlook.com