Package: qPLEXanalyzer Version: 1.18.0 Command: chmod a+r qPLEXanalyzer -R && F:\biocbuild\bbs-3.17-bioc\R\bin\R.exe CMD build --keep-empty-dirs --no-resave-data qPLEXanalyzer StartedAt: 2023-10-15 21:32:59 -0400 (Sun, 15 Oct 2023) EndedAt: 2023-10-15 21:36:15 -0400 (Sun, 15 Oct 2023) EllapsedTime: 196.3 seconds RetCode: 0 Status: OK PackageFile: qPLEXanalyzer_1.18.0.tar.gz PackageFileSize: 3.027 MiB