Package: qPLEXanalyzer Version: 1.18.0 Command: rm -rf qPLEXanalyzer.buildbin-libdir && mkdir qPLEXanalyzer.buildbin-libdir && F:\biocbuild\bbs-3.17-bioc\R\bin\R.exe CMD INSTALL --build --library=qPLEXanalyzer.buildbin-libdir qPLEXanalyzer_1.18.0.tar.gz StartedAt: 2023-10-16 09:19:00 -0400 (Mon, 16 Oct 2023) EndedAt: 2023-10-16 09:19:29 -0400 (Mon, 16 Oct 2023) EllapsedTime: 29.4 seconds RetCode: 0 Status: OK PackageFile: qPLEXanalyzer_1.18.0.zip PackageFileSize: 3.147 MiB