Package: qPLEXanalyzer Version: 1.18.0 Command: /Library/Frameworks/R.framework/Resources/bin/R CMD INSTALL qPLEXanalyzer StartedAt: 2023-10-15 15:40:56 -0400 (Sun, 15 Oct 2023) EndedAt: 2023-10-15 15:42:13 -0400 (Sun, 15 Oct 2023) EllapsedTime: 76.9 seconds RetCode: 0 Status: OK