Package: qPLEXanalyzer Version: 1.18.0 Command: rm -rf qPLEXanalyzer.buildbin-libdir && mkdir qPLEXanalyzer.buildbin-libdir && /Users/biocbuild/BBS/utils/build-universal.sh qPLEXanalyzer_1.18.0.tar.gz /Library/Frameworks/R.framework/Resources/bin/R qPLEXanalyzer.buildbin-libdir StartedAt: 2023-10-16 09:58:49 -0400 (Mon, 16 Oct 2023) EndedAt: 2023-10-16 10:00:13 -0400 (Mon, 16 Oct 2023) EllapsedTime: 83.8 seconds RetCode: 0 Status: OK PackageFile: qPLEXanalyzer_1.18.0.tgz PackageFileSize: 3.607 MiB