git_url: https://git.bioconductor.org/packages/qPLEXanalyzer git_branch: RELEASE_3_17 git_last_commit: 011b364 git_last_commit_date: 2023-04-25 11:02:47 -0400 (Tue, 25 Apr 2023) Package: qPLEXanalyzer Version: 1.18.0 Maintainer: Ashley Sawle MaintainerEmail: ads2202cu at gmail.com