Package: pwrEWAS Version: 1.14.0 Command: /home/biocbuild/bbs-3.17-bioc/R/bin/R CMD build --keep-empty-dirs --no-resave-data pwrEWAS StartedAt: 2023-10-15 18:03:15 -0400 (Sun, 15 Oct 2023) EndedAt: 2023-10-15 18:04:47 -0400 (Sun, 15 Oct 2023) EllapsedTime: 92.0 seconds RetCode: 0 Status: OK PackageFile: pwrEWAS_1.14.0.tar.gz PackageFileSize: 221.2 KiB