Package: pwrEWAS Version: 1.14.0 Command: /Library/Frameworks/R.framework/Resources/bin/R CMD check --install=check:pwrEWAS.install-out.txt --library=/Library/Frameworks/R.framework/Resources/library --no-vignettes --timings pwrEWAS_1.14.0.tar.gz StartedAt: 2023-10-16 05:37:56 -0400 (Mon, 16 Oct 2023) EndedAt: 2023-10-16 05:48:54 -0400 (Mon, 16 Oct 2023) EllapsedTime: 658.5 seconds RetCode: 0 Status: OK CheckDir: pwrEWAS.Rcheck Warnings: 0