Package: pwrEWAS Version: 1.14.0 Command: rm -rf pwrEWAS.buildbin-libdir && mkdir pwrEWAS.buildbin-libdir && /Users/biocbuild/BBS/utils/build-universal.sh pwrEWAS_1.14.0.tar.gz /Library/Frameworks/R.framework/Resources/bin/R pwrEWAS.buildbin-libdir StartedAt: 2023-10-16 09:58:21 -0400 (Mon, 16 Oct 2023) EndedAt: 2023-10-16 09:59:36 -0400 (Mon, 16 Oct 2023) EllapsedTime: 75.6 seconds RetCode: 0 Status: OK PackageFile: pwrEWAS_1.14.0.tgz PackageFileSize: 249.6 KiB