Package: pwOmics Version: 1.32.0 Command: rm -rf pwOmics.buildbin-libdir && mkdir pwOmics.buildbin-libdir && F:\biocbuild\bbs-3.17-bioc\R\bin\R.exe CMD INSTALL --build --library=pwOmics.buildbin-libdir pwOmics_1.32.0.tar.gz StartedAt: 2023-10-16 09:18:37 -0400 (Mon, 16 Oct 2023) EndedAt: 2023-10-16 09:19:08 -0400 (Mon, 16 Oct 2023) EllapsedTime: 31.2 seconds RetCode: 0 Status: OK PackageFile: pwOmics_1.32.0.zip PackageFileSize: 1.118 MiB