Package: pvca Version: 1.40.0 Command: chmod a+r pvca -R && F:\biocbuild\bbs-3.17-bioc\R\bin\R.exe CMD build --keep-empty-dirs --no-resave-data pvca StartedAt: 2023-10-15 21:30:56 -0400 (Sun, 15 Oct 2023) EndedAt: 2023-10-15 21:31:21 -0400 (Sun, 15 Oct 2023) EllapsedTime: 25.2 seconds RetCode: 0 Status: OK PackageFile: pvca_1.40.0.tar.gz PackageFileSize: 110.3 KiB