Package: pvca Version: 1.40.0 Command: /home/biocbuild/bbs-3.17-bioc/R/bin/R CMD check --install=check:pvca.install-out.txt --library=/home/biocbuild/bbs-3.17-bioc/R/site-library --timings pvca_1.40.0.tar.gz StartedAt: 2023-10-16 00:05:51 -0400 (Mon, 16 Oct 2023) EndedAt: 2023-10-16 00:07:13 -0400 (Mon, 16 Oct 2023) EllapsedTime: 82.0 seconds RetCode: 0 Status: OK CheckDir: pvca.Rcheck Warnings: 0