Package: pvca Version: 1.40.0 Command: rm -rf pvca.buildbin-libdir && mkdir pvca.buildbin-libdir && /Users/biocbuild/BBS/utils/build-universal.sh pvca_1.40.0.tar.gz /Library/Frameworks/R.framework/Resources/bin/R pvca.buildbin-libdir StartedAt: 2023-10-16 09:58:12 -0400 (Mon, 16 Oct 2023) EndedAt: 2023-10-16 09:58:49 -0400 (Mon, 16 Oct 2023) EllapsedTime: 37.7 seconds RetCode: 0 Status: OK PackageFile: pvca_1.40.0.tgz PackageFileSize: 224.9 KiB