Package: pvac Version: 1.48.0 Command: /home/biocbuild/bbs-3.17-bioc/R/bin/R CMD build --keep-empty-dirs --no-resave-data pvac StartedAt: 2023-10-15 18:02:44 -0400 (Sun, 15 Oct 2023) EndedAt: 2023-10-15 18:03:27 -0400 (Sun, 15 Oct 2023) EllapsedTime: 42.9 seconds RetCode: 0 Status: OK PackageFile: pvac_1.48.0.tar.gz PackageFileSize: 128.8 KiB