Package: pvac Version: 1.48.0 Command: /Library/Frameworks/R.framework/Resources/bin/R CMD check --install=check:pvac.install-out.txt --library=/Library/Frameworks/R.framework/Resources/library --no-vignettes --timings pvac_1.48.0.tar.gz StartedAt: 2023-10-16 05:36:48 -0400 (Mon, 16 Oct 2023) EndedAt: 2023-10-16 05:38:26 -0400 (Mon, 16 Oct 2023) EllapsedTime: 97.5 seconds RetCode: 0 Status: OK CheckDir: pvac.Rcheck Warnings: 0