Package: pvac Version: 1.48.0 Command: rm -rf pvac.buildbin-libdir && mkdir pvac.buildbin-libdir && /Users/biocbuild/BBS/utils/build-universal.sh pvac_1.48.0.tar.gz /Library/Frameworks/R.framework/Resources/bin/R pvac.buildbin-libdir StartedAt: 2023-10-16 09:58:10 -0400 (Mon, 16 Oct 2023) EndedAt: 2023-10-16 09:58:21 -0400 (Mon, 16 Oct 2023) EllapsedTime: 10.4 seconds RetCode: 0 Status: OK PackageFile: pvac_1.48.0.tgz PackageFileSize: 253.5 KiB