Package: ptairMS Version: 1.8.0 Command: F:\biocbuild\bbs-3.17-bioc\R\bin\R.exe CMD INSTALL ptairMS StartedAt: 2023-10-15 16:57:41 -0400 (Sun, 15 Oct 2023) EndedAt: 2023-10-15 16:58:21 -0400 (Sun, 15 Oct 2023) EllapsedTime: 40.0 seconds RetCode: 0 Status: OK