Package: ptairMS Version: 1.8.0 Command: /home/biocbuild/bbs-3.17-bioc/R/bin/R CMD INSTALL ptairMS StartedAt: 2023-10-15 15:45:27 -0400 (Sun, 15 Oct 2023) EndedAt: 2023-10-15 15:45:49 -0400 (Sun, 15 Oct 2023) EllapsedTime: 22.2 seconds RetCode: 0 Status: OK