Package: ptairMS Version: 1.8.0 Command: /Library/Frameworks/R.framework/Resources/bin/R CMD build --keep-empty-dirs --no-resave-data ptairMS StartedAt: 2023-10-15 20:26:27 -0400 (Sun, 15 Oct 2023) EndedAt: 2023-10-15 20:33:32 -0400 (Sun, 15 Oct 2023) EllapsedTime: 424.5 seconds RetCode: 0 Status: OK PackageFile: ptairMS_1.8.0.tar.gz PackageFileSize: 3.159 MiB