Package: ptairMS Version: 1.8.0 Command: rm -rf ptairMS.buildbin-libdir && mkdir ptairMS.buildbin-libdir && /Users/biocbuild/BBS/utils/build-universal.sh ptairMS_1.8.0.tar.gz /Library/Frameworks/R.framework/Resources/bin/R ptairMS.buildbin-libdir StartedAt: 2023-10-16 09:58:08 -0400 (Mon, 16 Oct 2023) EndedAt: 2023-10-16 09:59:43 -0400 (Mon, 16 Oct 2023) EllapsedTime: 94.7 seconds RetCode: 0 Status: OK PackageFile: ptairMS_1.8.0.tgz PackageFileSize: 3.24 MiB