Package: psygenet2r Version: 1.32.2 Command: F:\biocbuild\bbs-3.17-bioc\R\bin\R.exe CMD check --no-multiarch --install=check:psygenet2r.install-out.txt --library=F:\biocbuild\bbs-3.17-bioc\R\library --no-vignettes --timings psygenet2r_1.32.2.tar.gz StartedAt: 2023-10-16 05:33:04 -0400 (Mon, 16 Oct 2023) EndedAt: 2023-10-16 05:36:58 -0400 (Mon, 16 Oct 2023) EllapsedTime: 234.0 seconds RetCode: 0 Status: OK CheckDir: psygenet2r.Rcheck Warnings: 0