Package: psygenet2r Version: 1.32.2 Command: rm -rf psygenet2r.buildbin-libdir && mkdir psygenet2r.buildbin-libdir && F:\biocbuild\bbs-3.17-bioc\R\bin\R.exe CMD INSTALL --build --library=psygenet2r.buildbin-libdir psygenet2r_1.32.2.tar.gz StartedAt: 2023-10-16 09:18:18 -0400 (Mon, 16 Oct 2023) EndedAt: 2023-10-16 09:18:53 -0400 (Mon, 16 Oct 2023) EllapsedTime: 34.7 seconds RetCode: 0 Status: OK PackageFile: psygenet2r_1.32.2.zip PackageFileSize: 1.85 MiB