Package: psygenet2r Version: 1.32.2 Command: /home/biocbuild/bbs-3.17-bioc/R/bin/R CMD check --install=check:psygenet2r.install-out.txt --library=/home/biocbuild/bbs-3.17-bioc/R/site-library --timings psygenet2r_1.32.2.tar.gz StartedAt: 2023-10-16 00:04:34 -0400 (Mon, 16 Oct 2023) EndedAt: 2023-10-16 00:14:22 -0400 (Mon, 16 Oct 2023) EllapsedTime: 587.7 seconds RetCode: 1 Status: ERROR CheckDir: psygenet2r.Rcheck Warnings: NA