Package: psichomics Version: 1.26.0 Command: chmod a+r psichomics -R && F:\biocbuild\bbs-3.17-bioc\R\bin\R.exe CMD build --keep-empty-dirs --no-resave-data psichomics StartedAt: 2023-10-15 21:29:47 -0400 (Sun, 15 Oct 2023) EndedAt: 2023-10-15 21:32:38 -0400 (Sun, 15 Oct 2023) EllapsedTime: 170.6 seconds RetCode: 0 Status: OK PackageFile: psichomics_1.26.0.tar.gz PackageFileSize: 6.041 MiB