Package: psichomics Version: 1.26.0 Command: rm -rf psichomics.buildbin-libdir && mkdir psichomics.buildbin-libdir && F:\biocbuild\bbs-3.17-bioc\R\bin\R.exe CMD INSTALL --build --library=psichomics.buildbin-libdir psichomics_1.26.0.tar.gz StartedAt: 2023-10-16 09:18:14 -0400 (Mon, 16 Oct 2023) EndedAt: 2023-10-16 09:20:37 -0400 (Mon, 16 Oct 2023) EllapsedTime: 142.3 seconds RetCode: 0 Status: OK PackageFile: psichomics_1.26.0.zip PackageFileSize: 4.932 MiB