Package: proteinProfiles Version: 1.40.0 Command: chmod a+r proteinProfiles -R && F:\biocbuild\bbs-3.17-bioc\R\bin\R.exe CMD build --keep-empty-dirs --no-resave-data proteinProfiles StartedAt: 2023-10-15 21:29:29 -0400 (Sun, 15 Oct 2023) EndedAt: 2023-10-15 21:29:45 -0400 (Sun, 15 Oct 2023) EllapsedTime: 16.5 seconds RetCode: 0 Status: OK PackageFile: proteinProfiles_1.40.0.tar.gz PackageFileSize: 244.2 KiB