Package: proteinProfiles Version: 1.40.0 Command: /home/biocbuild/bbs-3.17-bioc/R/bin/R CMD build --keep-empty-dirs --no-resave-data proteinProfiles StartedAt: 2023-10-15 18:01:58 -0400 (Sun, 15 Oct 2023) EndedAt: 2023-10-15 18:02:05 -0400 (Sun, 15 Oct 2023) EllapsedTime: 7.0 seconds RetCode: 0 Status: OK PackageFile: proteinProfiles_1.40.0.tar.gz PackageFileSize: 242.2 KiB