Package: proteinProfiles Version: 1.40.0 Command: /Library/Frameworks/R.framework/Resources/bin/R CMD INSTALL proteinProfiles StartedAt: 2023-10-15 15:04:23 -0400 (Sun, 15 Oct 2023) EndedAt: 2023-10-15 15:04:42 -0400 (Sun, 15 Oct 2023) EllapsedTime: 19.0 seconds RetCode: 0 Status: OK