Package: proteinProfiles Version: 1.40.0 Command: rm -rf proteinProfiles.buildbin-libdir && mkdir proteinProfiles.buildbin-libdir && /Users/biocbuild/BBS/utils/build-universal.sh proteinProfiles_1.40.0.tar.gz /Library/Frameworks/R.framework/Resources/bin/R proteinProfiles.buildbin-libdir StartedAt: 2023-10-16 09:57:39 -0400 (Mon, 16 Oct 2023) EndedAt: 2023-10-16 09:57:44 -0400 (Mon, 16 Oct 2023) EllapsedTime: 5.2 seconds RetCode: 0 Status: OK PackageFile: proteinProfiles_1.40.0.tgz PackageFileSize: 403.1 KiB