Package: proteasy Version: 1.2.0 Command: chmod a+r proteasy -R && F:\biocbuild\bbs-3.17-bioc\R\bin\R.exe CMD build --keep-empty-dirs --no-resave-data proteasy StartedAt: 2023-10-15 21:29:28 -0400 (Sun, 15 Oct 2023) EndedAt: 2023-10-15 21:30:51 -0400 (Sun, 15 Oct 2023) EllapsedTime: 83.1 seconds RetCode: 0 Status: OK PackageFile: proteasy_1.2.0.tar.gz PackageFileSize: 2.31 MiB